BEGIN:VCALENDAR
VERSION:2.0
PRODID:-//Outhouse LGBTQ+ Centre - ECPv6.15.18//NONSGML v1.0//EN
CALSCALE:GREGORIAN
METHOD:PUBLISH
X-WR-CALNAME:Outhouse LGBTQ+ Centre
X-ORIGINAL-URL:https://outhouse.ie
X-WR-CALDESC:Events for Outhouse LGBTQ+ Centre
REFRESH-INTERVAL;VALUE=DURATION:PT1H
X-Robots-Tag:noindex
X-PUBLISHED-TTL:PT1H
BEGIN:VTIMEZONE
TZID:Europe/Dublin
BEGIN:DAYLIGHT
TZOFFSETFROM:+0000
TZOFFSETTO:+0100
TZNAME:IST
DTSTART:20240331T010000
END:DAYLIGHT
BEGIN:STANDARD
TZOFFSETFROM:+0100
TZOFFSETTO:+0000
TZNAME:GMT
DTSTART:20241027T010000
END:STANDARD
BEGIN:DAYLIGHT
TZOFFSETFROM:+0000
TZOFFSETTO:+0100
TZNAME:IST
DTSTART:20250330T010000
END:DAYLIGHT
BEGIN:STANDARD
TZOFFSETFROM:+0100
TZOFFSETTO:+0000
TZNAME:GMT
DTSTART:20251026T010000
END:STANDARD
BEGIN:DAYLIGHT
TZOFFSETFROM:+0000
TZOFFSETTO:+0100
TZNAME:IST
DTSTART:20260329T010000
END:DAYLIGHT
BEGIN:STANDARD
TZOFFSETFROM:+0100
TZOFFSETTO:+0000
TZNAME:GMT
DTSTART:20261025T010000
END:STANDARD
END:VTIMEZONE
BEGIN:VEVENT
DTSTART;TZID=Europe/Dublin:20250919T170000
DTEND;TZID=Europe/Dublin:20250919T220000
DTSTAMP:20260424T065947
CREATED:20250915T163048Z
LAST-MODIFIED:20250915T163049Z
UID:15711-1758301200-1758319200@outhouse.ie
SUMMARY:Culture Night - Breaking Frames
DESCRIPTION:Outhouse LGBTQ+ Centre invites you to celebrate Culture Night with a series of dynamic\, drop-in events exploring the theme of Breaking Frames – how we define identity\, creativity\, and community beyond the limits placed on us. \nIn the Library\, enjoy a rolling programme of short films from LGBTQ+ creators\, in partnership with GAZE Film Festival\, Queer Spectrum Film Festival\, and TITE Film Festival. Come and go as you please throughout the night. \nIn the Red Room\, discover a series of mixed-media paintings by celebrated visual artist Martin McCann inspired by the quiet beauty of growth and transformation. \nIn the Theatre\, take part in a participatory exhibition that invites you to reflect on how you see yourself\, how others see you\, and how identities expand beyond society’s frames. Contribute to a collaborative mapping of perspectives\, share stories\, and express yourself through creative prompts. \nAll events are drop-in and free\, offering a welcoming space to engage\, explore\, and connect with the diversity of the LGBTQ+ community. \n\n\n\n\n– – – – – – – – – – – –\n\n\n\n\nShort LGBTQ+ Film Screenings\nwith GAZE Film Festival\, Queer Spectrum Film Festival\, and TITE Film Festival \nStep into the Library and lose yourself in a rolling programme of short films from LGBTQ+ creators\, curated in partnership with GAZE Film Festival\, Queer Spectrum Film Festival\, and TITE Film Festival. \nScreenings will run throughout the night\, inviting visitors to drop in\, linger\, and explore a diverse range of stories\, perspectives\, and voices. From intimate personal narratives to bold experimental works\, each film offers a glimpse into the richness and complexity of queer lives\, breaking away from the frames that try to contain them. This space celebrates creativity without boundaries\, encouraging reflection\, connection\, and discovery in every frame. \nLocation: The Outhouse Library \n\n\n\n\n\n\n\n\n\n– – – – – – – – – – – –\n\n\n\n\nGrowth\nPaintings by Martin McCann \nIn the Red Room\, celebrated visual artist Martin McCann presents a series of mixed media paintings inspired by the quiet beauty of growth and transformation. \nWorking in oil\, cold wax\, and collage\, McCann embraces the imperfect\, the incomplete\, and the asymmetrical to move beyond the frames and expectations placed upon us. \nThese textured\, layered works speak to the resilience of growing in our own direction\, a journey that resonates deeply within queer lives. Here\, beauty is found not in symmetry or perfection\, but in the ways we expand\, unfurl\, and thrive outside the limits of what we were told to be. \nLocation: The Red Room \n\n\n\n\n\n\n\n\n\n– – – – – – – – – – – –\n\n\n\n\nThe Lines Between Us\nParticipatory Exhibition \nStep into a space designed for reflection\, connection\, and creativity. Visitors are invited to explore how they see themselves\, how others see them\, and how identities expand beyond society’s frames. \nUsing yarn\, prompts\, and collaborative exercises\, participants can map perspectives\, share stories\, and express themselves through writing\, drawing\, or other creative responses. \nThis evolving exhibition becomes a living reflection of the community\, celebrating the many ways we grow\, connect\, and break free from expectations. \nLocation: The Outhouse Theatre
URL:https://outhouse.ie/event/culture-night-breaking-frames/
LOCATION:Outhouse LGBTQ+ Centre\, 105 Capel Street\, Dublin\, D01R290\, Ireland
ATTACH;FMTTYPE=image/png:https://outhouse.ie/wp-content/uploads/2025/09/Culture-Night-3.png
ORGANIZER;CN="Outhouse":MAILTO:venue@outhouse.ie
END:VEVENT
END:VCALENDAR