BEGIN:VCALENDAR
VERSION:2.0
PRODID:-//Outhouse LGBTQ+ Centre - ECPv6.15.18//NONSGML v1.0//EN
CALSCALE:GREGORIAN
METHOD:PUBLISH
X-WR-CALNAME:Outhouse LGBTQ+ Centre
X-ORIGINAL-URL:https://outhouse.ie
X-WR-CALDESC:Events for Outhouse LGBTQ+ Centre
REFRESH-INTERVAL;VALUE=DURATION:PT1H
X-Robots-Tag:noindex
X-PUBLISHED-TTL:PT1H
BEGIN:VTIMEZONE
TZID:Europe/Dublin
BEGIN:DAYLIGHT
TZOFFSETFROM:+0000
TZOFFSETTO:+0100
TZNAME:IST
DTSTART:20240331T010000
END:DAYLIGHT
BEGIN:STANDARD
TZOFFSETFROM:+0100
TZOFFSETTO:+0000
TZNAME:GMT
DTSTART:20241027T010000
END:STANDARD
BEGIN:DAYLIGHT
TZOFFSETFROM:+0000
TZOFFSETTO:+0100
TZNAME:IST
DTSTART:20250330T010000
END:DAYLIGHT
BEGIN:STANDARD
TZOFFSETFROM:+0100
TZOFFSETTO:+0000
TZNAME:GMT
DTSTART:20251026T010000
END:STANDARD
BEGIN:DAYLIGHT
TZOFFSETFROM:+0000
TZOFFSETTO:+0100
TZNAME:IST
DTSTART:20260329T010000
END:DAYLIGHT
BEGIN:STANDARD
TZOFFSETFROM:+0100
TZOFFSETTO:+0000
TZNAME:GMT
DTSTART:20261025T010000
END:STANDARD
END:VTIMEZONE
BEGIN:VEVENT
DTSTART;TZID=Europe/Dublin:20251022T180000
DTEND;TZID=Europe/Dublin:20251022T210000
DTSTAMP:20260426T042404
CREATED:20250719T154645Z
LAST-MODIFIED:20251001T210941Z
UID:10009811-1761156000-1761166800@outhouse.ie
SUMMARY:Games Night with Dublin Gaymers!
DESCRIPTION:Calling all queer strategists\, sleuths\, and general game enthusiasts! The Dublin Gaymers are breaking out some cult classic games\, obscure recent finds\, and of course some of the standards like Connect 4. \nSo whether you’re solving mysteries\, bluffing your way to victory\, or plotting the perfect four-in-a-row\, there’s a game (and a laugh) waiting for you. \nJust good vibes and community. No experience needed\, just bring your competitive (or chaotic) spirit! \n📍 Outhouse LGBTQ+ Centre – Red Room\n📅 Wednesday\, multiple dates – check calenar\n⏰ From 6pm to 9pm\n🎟️ Free & open to all LGBTQ+ folks
URL:https://outhouse.ie/event/games-night-with-dublin-gaymers/2025-10-22/
LOCATION:Red Room\, Outhouse LGBTQ+ Centre\, 105 Capel Street\, Dublin\, D01 R290\, Ireland
CATEGORIES:Community
ATTACH;FMTTYPE=image/png:https://outhouse.ie/wp-content/uploads/2025/07/gaymers500px.png
ORGANIZER;CN="Outhouse":MAILTO:venue@outhouse.ie
END:VEVENT
END:VCALENDAR