BEGIN:VCALENDAR
VERSION:2.0
PRODID:-//Outhouse LGBTQ+ Centre - ECPv6.15.18//NONSGML v1.0//EN
CALSCALE:GREGORIAN
METHOD:PUBLISH
X-WR-CALNAME:Outhouse LGBTQ+ Centre
X-ORIGINAL-URL:https://outhouse.ie
X-WR-CALDESC:Events for Outhouse LGBTQ+ Centre
REFRESH-INTERVAL;VALUE=DURATION:PT1H
X-Robots-Tag:noindex
X-PUBLISHED-TTL:PT1H
BEGIN:VTIMEZONE
TZID:Europe/Dublin
BEGIN:DAYLIGHT
TZOFFSETFROM:+0000
TZOFFSETTO:+0100
TZNAME:IST
DTSTART:20250330T010000
END:DAYLIGHT
BEGIN:STANDARD
TZOFFSETFROM:+0100
TZOFFSETTO:+0000
TZNAME:GMT
DTSTART:20251026T010000
END:STANDARD
BEGIN:DAYLIGHT
TZOFFSETFROM:+0000
TZOFFSETTO:+0100
TZNAME:IST
DTSTART:20260329T010000
END:DAYLIGHT
BEGIN:STANDARD
TZOFFSETFROM:+0100
TZOFFSETTO:+0000
TZNAME:GMT
DTSTART:20261025T010000
END:STANDARD
BEGIN:DAYLIGHT
TZOFFSETFROM:+0000
TZOFFSETTO:+0100
TZNAME:IST
DTSTART:20270328T010000
END:DAYLIGHT
BEGIN:STANDARD
TZOFFSETFROM:+0100
TZOFFSETTO:+0000
TZNAME:GMT
DTSTART:20271031T010000
END:STANDARD
END:VTIMEZONE
BEGIN:VEVENT
DTSTART;TZID=Europe/Dublin:20260508T143000
DTEND;TZID=Europe/Dublin:20260508T153000
DTSTAMP:20260424T065356
CREATED:20260416T154004Z
LAST-MODIFIED:20260416T154004Z
UID:10010963-1778250600-1778254200@outhouse.ie
SUMMARY:WITHIN REACH / COMBAT CABARET
DESCRIPTION:Production by:Alan Greig Dance (SCOTLAND) / Eoin O’Flaherty and Conor Duffy (IRELAND)\nA double-bill of LGBTQ theatre. \nWithin Reach (40 mins\, Scotland) \nWritten and choreographed by veteran dance artist Alan Greig\, Within Reach is a humorous exploration of identity\, queer culture\, aging\, and the cracked glamour of fame.\nSeamlessly blending eccentric spoken word monologues and crisp choreographed vignettes\, this dance theatre performance sees Greig skilfully slip between characters as he embodies LGBTQ+ icons Quentin Crisp\, Joan Crawford\, Bette Davis and Tennessee Williams. With humour\, intimacy and physical virtuosity Greig invites the audience to join him as he celebrates these stars of queer culture\, and to confront the difficult question of where these figures now belong in a world so focused on the young and the new. \nCombat Cabaret (20 mins\, Ireland) \nEoin and Conor are a delightful bickering duo. They are a team\, a symbiotic pairing that blossom in the chaos they cause each other. Think queer meets Laurel & Hardy. But change the bowler hats for thigh highs and dazzling latex. And swords\, lots of swords. Stage combat combined with burlesque\, our heroes battle gender norms.\nHEELS. NAILS. BLADES. MASCARA. / FIT CHECK FOR OUR COMBAT ERA \nAuthor: Eoin O’Flaherty and Conor Duffy \nCOMBINED DURATION: 55 mins approx.  There is no interval between the performances.
URL:https://outhouse.ie/event/within-reach-combat-cabaret/2026-05-08/
LOCATION:Outhouse LGBTQ+ Centre\, 105 Capel Street\, Dublin\, D01R290\, Ireland
CATEGORIES:Theatre
ATTACH;FMTTYPE=image/png:https://outhouse.ie/wp-content/uploads/2026/04/within-reach-gay-theatreSq.png
END:VEVENT
END:VCALENDAR